Package: RedisParam Version: 1.8.0 Command: /Library/Frameworks/R.framework/Resources/bin/R CMD INSTALL RedisParam StartedAt: 2025-02-17 15:45:28 -0500 (Mon, 17 Feb 2025) EndedAt: 2025-02-17 15:45:37 -0500 (Mon, 17 Feb 2025) EllapsedTime: 8.6 seconds RetCode: 0 Status: OK