Package: RedisParam Version: 1.8.0 Command: /home/biocbuild/bbs-3.20-bioc/R/bin/R CMD check --install=check:RedisParam.install-out.txt --library=/home/biocbuild/bbs-3.20-bioc/R/site-library --timings RedisParam_1.8.0.tar.gz StartedAt: 2025-02-04 01:39:30 -0500 (Tue, 04 Feb 2025) EndedAt: 2025-02-04 01:39:56 -0500 (Tue, 04 Feb 2025) EllapsedTime: 26.0 seconds RetCode: 0 Status: OK CheckDir: RedisParam.Rcheck Warnings: 0