Package: RegionalST Version: 1.4.2 Command: /Library/Frameworks/R.framework/Resources/bin/R CMD check --install=check:RegionalST.install-out.txt --library=/Library/Frameworks/R.framework/Resources/library --no-vignettes --timings RegionalST_1.4.2.tar.gz StartedAt: 2025-02-04 08:44:26 -0500 (Tue, 04 Feb 2025) EndedAt: 2025-02-04 08:54:05 -0500 (Tue, 04 Feb 2025) EllapsedTime: 578.5 seconds RetCode: 0 Status: OK CheckDir: RegionalST.Rcheck Warnings: 0