Package: RegionalST Version: 1.4.2 Command: /Library/Frameworks/R.framework/Resources/bin/R CMD INSTALL RegionalST StartedAt: 2025-02-03 16:52:20 -0500 (Mon, 03 Feb 2025) EndedAt: 2025-02-03 16:52:59 -0500 (Mon, 03 Feb 2025) EllapsedTime: 38.9 seconds RetCode: 0 Status: OK