Package: RegionalST Version: 1.4.2 Command: /home/biocbuild/bbs-3.20-bioc/R/bin/R CMD INSTALL RegionalST StartedAt: 2025-02-03 16:11:17 -0500 (Mon, 03 Feb 2025) EndedAt: 2025-02-03 16:11:45 -0500 (Mon, 03 Feb 2025) EllapsedTime: 27.9 seconds RetCode: 0 Status: OK