Package: RegionalST
Version: 1.4.2
Command: F:\biocbuild\bbs-3.20-bioc\R\bin\R.exe CMD check --no-multiarch --install=check:RegionalST.install-out.txt --library=F:\biocbuild\bbs-3.20-bioc\R\library --no-vignettes --timings RegionalST_1.4.2.tar.gz
StartedAt: 2025-02-14 04:58:12 -0500 (Fri, 14 Feb 2025)
EndedAt: 2025-02-14 05:04:02 -0500 (Fri, 14 Feb 2025)
EllapsedTime: 349.9 seconds
RetCode: 0
Status: OK
CheckDir: RegionalST.Rcheck
Warnings: 0