Package: RegionalST
Version: 1.4.2
Command: F:\biocbuild\bbs-3.20-bioc\R\bin\R.exe CMD INSTALL RegionalST
StartedAt: 2025-02-13 17:02:19 -0500 (Thu, 13 Feb 2025)
EndedAt: 2025-02-13 17:02:46 -0500 (Thu, 13 Feb 2025)
EllapsedTime: 26.1 seconds
RetCode: 0
Status: OK