Package: RepViz Version: 1.22.0 Command: /Library/Frameworks/R.framework/Resources/bin/R CMD build --keep-empty-dirs --no-resave-data RepViz StartedAt: 2025-02-04 06:31:33 -0500 (Tue, 04 Feb 2025) EndedAt: 2025-02-04 06:32:02 -0500 (Tue, 04 Feb 2025) EllapsedTime: 29.5 seconds RetCode: 0 Status: OK PackageFile: RepViz_1.22.0.tar.gz PackageFileSize: 274.1 KiB