Package: RepViz Version: 1.22.0 Command: /Library/Frameworks/R.framework/Resources/bin/R CMD check --install=check:RepViz.install-out.txt --library=/Library/Frameworks/R.framework/Resources/library --no-vignettes --timings RepViz_1.22.0.tar.gz StartedAt: 2025-02-04 08:48:08 -0500 (Tue, 04 Feb 2025) EndedAt: 2025-02-04 08:52:37 -0500 (Tue, 04 Feb 2025) EllapsedTime: 269.2 seconds RetCode: 0 Status: WARNINGS CheckDir: RepViz.Rcheck Warnings: 3