Package: RepViz Version: 1.22.0 Command: /home/biocbuild/bbs-3.20-bioc/R/bin/R CMD INSTALL RepViz StartedAt: 2025-02-03 15:36:23 -0500 (Mon, 03 Feb 2025) EndedAt: 2025-02-03 15:36:39 -0500 (Mon, 03 Feb 2025) EllapsedTime: 16.5 seconds RetCode: 0 Status: OK