Package: Repitools Version: 1.52.0 Command: /Library/Frameworks/R.framework/Resources/bin/R CMD check --install=check:Repitools.install-out.txt --library=/Library/Frameworks/R.framework/Resources/library --no-vignettes --timings Repitools_1.52.0.tar.gz StartedAt: 2025-02-05 07:11:09 -0500 (Wed, 05 Feb 2025) EndedAt: 2025-02-05 07:20:18 -0500 (Wed, 05 Feb 2025) EllapsedTime: 548.8 seconds RetCode: 0 Status: WARNINGS CheckDir: Repitools.Rcheck Warnings: 2