Package: Repitools
Version: 1.52.0
Command: /Library/Frameworks/R.framework/Resources/bin/R CMD build --keep-empty-dirs --no-resave-data Repitools
StartedAt: 2025-02-17 21:43:18 -0500 (Mon, 17 Feb 2025)
EndedAt: 2025-02-17 21:45:16 -0500 (Mon, 17 Feb 2025)
EllapsedTime: 118.2 seconds
RetCode: 0
Status: OK
PackageFile: Repitools_1.52.0.tar.gz
PackageFileSize: 1.686 <A href="http://en.wikipedia.org/wiki/MiB" target="_blank">MiB</A>