Package: ReportingTools Version: 2.46.0 Maintainer: Jason A. Hackney <hackney.jason@gene.com>, Gabriel Becker MaintainerEmail: becker.gabe at gene.com>, Jessica L. Larson <larson.jessica at gmail.com git_url: https://git.bioconductor.org/packages/ReportingTools git_branch: RELEASE_3_20 git_last_commit: a3a5795 git_last_commit_date: 2024-10-29 09:42:48 -0500 (Tue, 29 Oct 2024)