Package: ReportingTools Version: 2.46.0 Command: /Library/Frameworks/R.framework/Resources/bin/R CMD build --keep-empty-dirs --no-resave-data ReportingTools StartedAt: 2025-02-04 06:31:23 -0500 (Tue, 04 Feb 2025) EndedAt: 2025-02-04 06:32:38 -0500 (Tue, 04 Feb 2025) EllapsedTime: 74.7 seconds RetCode: 0 Status: OK PackageFile: ReportingTools_2.46.0.tar.gz PackageFileSize: 1.786 MiB