Package: ReportingTools Version: 2.46.0 Command: chmod a+r ReportingTools -R && F:\biocbuild\bbs-3.20-bioc\R\bin\R.exe CMD build --keep-empty-dirs --no-resave-data ReportingTools StartedAt: 2025-02-03 21:37:48 -0500 (Mon, 03 Feb 2025) EndedAt: 2025-02-03 21:42:26 -0500 (Mon, 03 Feb 2025) EllapsedTime: 278.4 seconds RetCode: 0 Status: OK PackageFile: ReportingTools_2.46.0.tar.gz PackageFileSize: 1.79 MiB