Package: ReportingTools Version: 2.46.0 Command: F:\biocbuild\bbs-3.20-bioc\R\bin\R.exe CMD INSTALL ReportingTools StartedAt: 2025-02-03 16:59:28 -0500 (Mon, 03 Feb 2025) EndedAt: 2025-02-03 17:01:21 -0500 (Mon, 03 Feb 2025) EllapsedTime: 112.5 seconds RetCode: 0 Status: OK