Package: ReportingTools Version: 2.46.0 Command: /home/biocbuild/R/R/bin/R CMD INSTALL ReportingTools StartedAt: 2025-02-03 21:06:32 -0000 (Mon, 03 Feb 2025) EndedAt: 2025-02-03 21:07:46 -0000 (Mon, 03 Feb 2025) EllapsedTime: 73.9 seconds RetCode: 0 Status: OK