Package: Rgraphviz Version: 2.50.0 Command: /Library/Frameworks/R.framework/Resources/bin/R CMD build --keep-empty-dirs --no-resave-data Rgraphviz StartedAt: 2025-02-03 21:41:48 -0500 (Mon, 03 Feb 2025) EndedAt: 2025-02-03 21:46:44 -0500 (Mon, 03 Feb 2025) EllapsedTime: 295.9 seconds RetCode: 0 Status: OK PackageFile: Rgraphviz_2.50.0.tar.gz PackageFileSize: 7.329 MiB