Package: Rgraphviz Version: 2.50.0 Command: /home/biocbuild/bbs-3.20-bioc/R/bin/R CMD check --install=check:Rgraphviz.install-out.txt --library=/home/biocbuild/bbs-3.20-bioc/R/site-library --timings Rgraphviz_2.50.0.tar.gz StartedAt: 2025-02-04 01:46:25 -0500 (Tue, 04 Feb 2025) EndedAt: 2025-02-04 01:47:08 -0500 (Tue, 04 Feb 2025) EllapsedTime: 43.0 seconds RetCode: 0 Status: WARNINGS CheckDir: Rgraphviz.Rcheck Warnings: 2