Package: Rgraphviz Version: 2.50.0 Command: F:\biocbuild\bbs-3.20-bioc\R\bin\R.exe CMD INSTALL Rgraphviz StartedAt: 2025-02-10 15:31:31 -0500 (Mon, 10 Feb 2025) EndedAt: 2025-02-10 15:52:26 -0500 (Mon, 10 Feb 2025) EllapsedTime: 1255.4 seconds RetCode: 0 Status: OK