Package: Rgraphviz Version: 2.50.0 Command: /home/biocbuild/R/R/bin/R CMD check --install=check:Rgraphviz.install-out.txt --library=/home/biocbuild/R/R/site-library --no-vignettes --timings Rgraphviz_2.50.0.tar.gz StartedAt: 2025-02-04 10:23:41 -0000 (Tue, 04 Feb 2025) EndedAt: 2025-02-04 10:24:22 -0000 (Tue, 04 Feb 2025) EllapsedTime: 41.1 seconds RetCode: 0 Status: WARNINGS CheckDir: Rgraphviz.Rcheck Warnings: 2