Package: Rgraphviz Version: 2.50.0 Command: /home/biocbuild/R/R/bin/R CMD INSTALL Rgraphviz StartedAt: 2025-02-03 20:24:32 -0000 (Mon, 03 Feb 2025) EndedAt: 2025-02-03 20:26:15 -0000 (Mon, 03 Feb 2025) EllapsedTime: 102.5 seconds RetCode: 0 Status: OK