Package: Rhdf5lib Version: 1.28.0 Command: /Library/Frameworks/R.framework/Resources/bin/R CMD build --keep-empty-dirs --no-resave-data Rhdf5lib StartedAt: 2025-01-31 06:26:58 -0500 (Fri, 31 Jan 2025) EndedAt: 2025-01-31 06:32:18 -0500 (Fri, 31 Jan 2025) EllapsedTime: 320.7 seconds RetCode: 0 Status: OK PackageFile: Rhdf5lib_1.28.0.tar.gz PackageFileSize: 11.5 MiB