Package: Rhdf5lib Version: 1.28.0 Command: /Library/Frameworks/R.framework/Resources/bin/R CMD check --install=check:Rhdf5lib.install-out.txt --library=/Library/Frameworks/R.framework/Resources/library --no-vignettes --timings Rhdf5lib_1.28.0.tar.gz StartedAt: 2025-02-01 06:38:57 -0500 (Sat, 01 Feb 2025) EndedAt: 2025-02-01 06:39:14 -0500 (Sat, 01 Feb 2025) EllapsedTime: 17.0 seconds RetCode: 0 Status: WARNINGS CheckDir: Rhdf5lib.Rcheck Warnings: 1