Package: Rhdf5lib Version: 1.28.0 Command: /Library/Frameworks/R.framework/Resources/bin/R CMD INSTALL Rhdf5lib StartedAt: 2025-01-30 15:05:22 -0500 (Thu, 30 Jan 2025) EndedAt: 2025-01-30 15:09:54 -0500 (Thu, 30 Jan 2025) EllapsedTime: 272.5 seconds RetCode: 0 Status: OK