Package: Rhdf5lib Version: 1.28.0 Command: /Library/Frameworks/R.framework/Resources/bin/R CMD build --keep-empty-dirs --no-resave-data Rhdf5lib StartedAt: 2025-01-30 22:15:12 -0500 (Thu, 30 Jan 2025) EndedAt: 2025-01-30 22:24:47 -0500 (Thu, 30 Jan 2025) EllapsedTime: 574.9 seconds RetCode: 0 Status: OK PackageFile: Rhdf5lib_1.28.0.tar.gz PackageFileSize: 11.5 MiB