Package: Rhdf5lib Version: 1.28.0 Command: /Library/Frameworks/R.framework/Resources/bin/R CMD INSTALL Rhdf5lib StartedAt: 2025-01-30 15:07:02 -0500 (Thu, 30 Jan 2025) EndedAt: 2025-01-30 15:13:31 -0500 (Thu, 30 Jan 2025) EllapsedTime: 389.1 seconds RetCode: 0 Status: OK