Package: Rhdf5lib Version: 1.28.0 Command: rm -rf Rhdf5lib.buildbin-libdir && mkdir Rhdf5lib.buildbin-libdir && F:\biocbuild\bbs-3.20-bioc\R\bin\R.exe CMD INSTALL --build --library=Rhdf5lib.buildbin-libdir Rhdf5lib_1.28.0.tar.gz StartedAt: 2025-01-31 09:26:22 -0500 (Fri, 31 Jan 2025) EndedAt: 2025-01-31 09:27:15 -0500 (Fri, 31 Jan 2025) EllapsedTime: 53.2 seconds RetCode: 0 Status: OK PackageFile: Rhdf5lib_1.28.0.zip PackageFileSize: 6.242 MiB