Package: Rhdf5lib Version: 1.28.0 Command: F:\biocbuild\bbs-3.20-bioc\R\bin\R.exe CMD check --no-multiarch --install=check:Rhdf5lib.install-out.txt --library=F:\biocbuild\bbs-3.20-bioc\R\library --no-vignettes --timings Rhdf5lib_1.28.0.tar.gz StartedAt: 2025-01-31 05:42:58 -0500 (Fri, 31 Jan 2025) EndedAt: 2025-01-31 05:43:49 -0500 (Fri, 31 Jan 2025) EllapsedTime: 50.3 seconds RetCode: 0 Status: OK CheckDir: Rhdf5lib.Rcheck Warnings: 0