Package: Rhdf5lib Version: 1.28.0 Command: /home/biocbuild/R/R/bin/R CMD check --install=check:Rhdf5lib.install-out.txt --library=/home/biocbuild/R/R/site-library --no-vignettes --timings Rhdf5lib_1.28.0.tar.gz StartedAt: 2025-01-31 09:42:05 -0000 (Fri, 31 Jan 2025) EndedAt: 2025-01-31 09:42:21 -0000 (Fri, 31 Jan 2025) EllapsedTime: 16.0 seconds RetCode: 0 Status: WARNINGS CheckDir: Rhdf5lib.Rcheck Warnings: 1