Package: Rhdf5lib Version: 1.28.0 Command: /home/biocbuild/R/R/bin/R CMD INSTALL Rhdf5lib StartedAt: 2025-01-30 20:06:20 -0000 (Thu, 30 Jan 2025) EndedAt: 2025-01-30 20:11:39 -0000 (Thu, 30 Jan 2025) EllapsedTime: 318.9 seconds RetCode: 0 Status: OK