Package: Rhisat2 Version: 1.22.0 Command: rm -rf Rhisat2.buildbin-libdir && mkdir Rhisat2.buildbin-libdir && /Users/biocbuild/BBS/utils/build-universal.sh Rhisat2_1.22.0.tar.gz /Library/Frameworks/R.framework/Resources/bin/R Rhisat2.buildbin-libdir StartedAt: 2025-02-05 17:25:16 -0500 (Wed, 05 Feb 2025) EndedAt: 2025-02-05 17:27:54 -0500 (Wed, 05 Feb 2025) EllapsedTime: 157.9 seconds RetCode: 0 Status: OK PackageFile: Rhisat2_1.22.0.tgz PackageFileSize: 1.09 MiB