Package: Rhisat2 Version: 1.22.0 Command: /Library/Frameworks/R.framework/Resources/bin/R CMD build --keep-empty-dirs --no-resave-data Rhisat2 StartedAt: 2025-02-04 06:37:53 -0500 (Tue, 04 Feb 2025) EndedAt: 2025-02-04 06:40:48 -0500 (Tue, 04 Feb 2025) EllapsedTime: 174.6 seconds RetCode: 0 Status: OK PackageFile: Rhisat2_1.22.0.tar.gz PackageFileSize: 6.745 MiB