Package: Rhisat2 Version: 1.22.0 Command: /Library/Frameworks/R.framework/Resources/bin/R CMD INSTALL Rhisat2 StartedAt: 2025-02-03 16:22:17 -0500 (Mon, 03 Feb 2025) EndedAt: 2025-02-03 16:24:47 -0500 (Mon, 03 Feb 2025) EllapsedTime: 150.3 seconds RetCode: 0 Status: OK