Package: Rhisat2
Version: 1.21.0
Command: rm -rf Rhisat2.buildbin-libdir && mkdir Rhisat2.buildbin-libdir && C:\Users\biocbuild\bbs-3.20-bioc\R\bin\R.exe CMD INSTALL --build --library=Rhisat2.buildbin-libdir Rhisat2_1.21.0.tar.gz
StartedAt: 2024-07-16 06:39:25 -0400 (Tue, 16 Jul 2024)
EndedAt: 2024-07-16 06:43:42 -0400 (Tue, 16 Jul 2024)
EllapsedTime: 257.6 seconds
RetCode: 0
Status: OK
PackageFile: Rhisat2_1.21.0.zip
PackageFileSize: 18.34 <A href="http://en.wikipedia.org/wiki/MiB" target="_blank">MiB</A>