Package: Rhisat2 Version: 1.22.0 Command: rm -rf Rhisat2.buildbin-libdir && mkdir Rhisat2.buildbin-libdir && F:\biocbuild\bbs-3.20-bioc\R\bin\R.exe CMD INSTALL --build --library=Rhisat2.buildbin-libdir Rhisat2_1.22.0.tar.gz StartedAt: 2025-02-04 09:20:28 -0500 (Tue, 04 Feb 2025) EndedAt: 2025-02-04 09:25:40 -0500 (Tue, 04 Feb 2025) EllapsedTime: 312.5 seconds RetCode: 0 Status: OK PackageFile: Rhisat2_1.22.0.zip PackageFileSize: 18.34 MiB