Package: Rhisat2 Version: 1.22.0 Command: chmod a+r Rhisat2 -R && F:\biocbuild\bbs-3.20-bioc\R\bin\R.exe CMD build --keep-empty-dirs --no-resave-data Rhisat2 StartedAt: 2025-02-03 21:40:55 -0500 (Mon, 03 Feb 2025) EndedAt: 2025-02-03 21:47:12 -0500 (Mon, 03 Feb 2025) EllapsedTime: 377.5 seconds RetCode: 0 Status: OK PackageFile: Rhisat2_1.22.0.tar.gz PackageFileSize: 6.744 MiB