Package: Rhisat2 Version: 1.22.0 Command: F:\biocbuild\bbs-3.20-bioc\R\bin\R.exe CMD INSTALL Rhisat2 StartedAt: 2025-02-03 16:39:33 -0500 (Mon, 03 Feb 2025) EndedAt: 2025-02-03 16:44:50 -0500 (Mon, 03 Feb 2025) EllapsedTime: 316.7 seconds RetCode: 0 Status: OK