Package: Rhtslib Version: 3.2.0 Command: /Library/Frameworks/R.framework/Resources/bin/R CMD build --keep-empty-dirs --no-resave-data Rhtslib StartedAt: 2025-01-30 22:15:27 -0500 (Thu, 30 Jan 2025) EndedAt: 2025-01-30 22:16:54 -0500 (Thu, 30 Jan 2025) EllapsedTime: 87.5 seconds RetCode: 0 Status: OK PackageFile: Rhtslib_3.2.0.tar.gz PackageFileSize: 4.91 MiB