Package: Rhtslib Version: 3.2.0 Command: /Library/Frameworks/R.framework/Resources/bin/R CMD INSTALL Rhtslib StartedAt: 2025-01-30 15:11:26 -0500 (Thu, 30 Jan 2025) EndedAt: 2025-01-30 15:12:36 -0500 (Thu, 30 Jan 2025) EllapsedTime: 70.5 seconds RetCode: 0 Status: OK