Package: Rhtslib Version: 3.2.0 Command: /home/biocbuild/R/R/bin/R CMD INSTALL Rhtslib StartedAt: 2025-01-30 20:10:24 -0000 (Thu, 30 Jan 2025) EndedAt: 2025-01-30 20:12:33 -0000 (Thu, 30 Jan 2025) EllapsedTime: 129.1 seconds RetCode: 0 Status: OK