Package: RiboCrypt Version: 1.12.0 Command: /Library/Frameworks/R.framework/Resources/bin/R CMD build --keep-empty-dirs --no-resave-data RiboCrypt StartedAt: 2025-02-11 06:34:46 -0500 (Tue, 11 Feb 2025) EndedAt: 2025-02-11 06:36:15 -0500 (Tue, 11 Feb 2025) EllapsedTime: 88.8 seconds RetCode: 0 Status: OK PackageFile: RiboCrypt_1.12.0.tar.gz PackageFileSize: 5.657 MiB