Package: RiboCrypt Version: 1.12.0 Command: /home/biocbuild/R/R/bin/R CMD build --keep-empty-dirs --no-resave-data RiboCrypt StartedAt: 2024-11-20 03:22:24 -0000 (Wed, 20 Nov 2024) EndedAt: 2024-11-20 03:24:15 -0000 (Wed, 20 Nov 2024) EllapsedTime: 111.1 seconds RetCode: 0 Status: OK PackageFile: RiboCrypt_1.12.0.tar.gz PackageFileSize: 6.266 MiB