Package: RiboCrypt Version: 1.12.0 Command: /home/biocbuild/R/R/bin/R CMD check --install=check:RiboCrypt.install-out.txt --library=/home/biocbuild/R/R/site-library --no-vignettes --timings RiboCrypt_1.12.0.tar.gz StartedAt: 2024-11-20 11:39:43 -0000 (Wed, 20 Nov 2024) EndedAt: 2024-11-20 11:46:26 -0000 (Wed, 20 Nov 2024) EllapsedTime: 402.7 seconds RetCode: 0 Status: OK CheckDir: RiboCrypt.Rcheck Warnings: 0