Package: RiboCrypt Version: 1.12.0 Command: /Library/Frameworks/R.framework/Resources/bin/R CMD build --keep-empty-dirs --no-resave-data RiboCrypt StartedAt: 2025-02-10 21:45:05 -0500 (Mon, 10 Feb 2025) EndedAt: 2025-02-10 21:48:00 -0500 (Mon, 10 Feb 2025) EllapsedTime: 175.2 seconds RetCode: 0 Status: OK PackageFile: RiboCrypt_1.12.0.tar.gz PackageFileSize: 5.657 MiB