Package: RiboCrypt Version: 1.12.0 Command: chmod a+r RiboCrypt -R && F:\biocbuild\bbs-3.20-bioc\R\bin\R.exe CMD build --keep-empty-dirs --no-resave-data RiboCrypt StartedAt: 2025-02-03 21:41:19 -0500 (Mon, 03 Feb 2025) EndedAt: 2025-02-03 21:43:51 -0500 (Mon, 03 Feb 2025) EllapsedTime: 151.5 seconds RetCode: 0 Status: OK PackageFile: RiboCrypt_1.12.0.tar.gz PackageFileSize: 5.657 MiB