Package: RiboCrypt Version: 1.12.0 Command: /home/biocbuild/R/R/bin/R CMD build --keep-empty-dirs --no-resave-data RiboCrypt StartedAt: 2025-02-04 02:15:53 -0000 (Tue, 04 Feb 2025) EndedAt: 2025-02-04 02:17:32 -0000 (Tue, 04 Feb 2025) EllapsedTime: 99.1 seconds RetCode: 0 Status: OK PackageFile: RiboCrypt_1.12.0.tar.gz PackageFileSize: 6.266 MiB