Package: RiboCrypt Version: 1.12.0 Command: /home/biocbuild/R/R/bin/R CMD check --install=check:RiboCrypt.install-out.txt --library=/home/biocbuild/R/R/site-library --no-vignettes --timings RiboCrypt_1.12.0.tar.gz StartedAt: 2025-02-04 10:24:39 -0000 (Tue, 04 Feb 2025) EndedAt: 2025-02-04 10:30:55 -0000 (Tue, 04 Feb 2025) EllapsedTime: 375.4 seconds RetCode: 0 Status: OK CheckDir: RiboCrypt.Rcheck Warnings: 0