Package: RiboDiPA Version: 1.14.0 Command: /Library/Frameworks/R.framework/Resources/bin/R CMD INSTALL RiboDiPA StartedAt: 2025-02-03 15:56:51 -0500 (Mon, 03 Feb 2025) EndedAt: 2025-02-03 15:58:33 -0500 (Mon, 03 Feb 2025) EllapsedTime: 102.2 seconds RetCode: 0 Status: OK