Package: RiboDiPA Version: 1.14.0 Command: /home/biocbuild/R/R/bin/R CMD check --install=check:RiboDiPA.install-out.txt --library=/home/biocbuild/R/R/site-library --no-vignettes --timings RiboDiPA_1.14.0.tar.gz StartedAt: 2025-02-11 09:45:30 -0000 (Tue, 11 Feb 2025) EndedAt: 2025-02-11 10:02:02 -0000 (Tue, 11 Feb 2025) EllapsedTime: 992.7 seconds RetCode: 0 Status: OK CheckDir: RiboDiPA.Rcheck Warnings: 0